BEGIN:VCALENDAR
VERSION:2.0
PRODID:-//Showmentum, Inc. - ECPv6.15.20//NONSGML v1.0//EN
CALSCALE:GREGORIAN
METHOD:PUBLISH
X-WR-CALNAME:Showmentum, Inc.
X-ORIGINAL-URL:https://showmentum.com
X-WR-CALDESC:Events for Showmentum, Inc.
REFRESH-INTERVAL;VALUE=DURATION:PT1H
X-Robots-Tag:noindex
X-PUBLISHED-TTL:PT1H
BEGIN:VTIMEZONE
TZID:America/Los_Angeles
BEGIN:DAYLIGHT
TZOFFSETFROM:-0800
TZOFFSETTO:-0700
TZNAME:PDT
DTSTART:20180311T100000
END:DAYLIGHT
BEGIN:STANDARD
TZOFFSETFROM:-0700
TZOFFSETTO:-0800
TZNAME:PST
DTSTART:20181104T090000
END:STANDARD
BEGIN:DAYLIGHT
TZOFFSETFROM:-0800
TZOFFSETTO:-0700
TZNAME:PDT
DTSTART:20190310T100000
END:DAYLIGHT
BEGIN:STANDARD
TZOFFSETFROM:-0700
TZOFFSETTO:-0800
TZNAME:PST
DTSTART:20191103T090000
END:STANDARD
BEGIN:DAYLIGHT
TZOFFSETFROM:-0800
TZOFFSETTO:-0700
TZNAME:PDT
DTSTART:20200308T100000
END:DAYLIGHT
BEGIN:STANDARD
TZOFFSETFROM:-0700
TZOFFSETTO:-0800
TZNAME:PST
DTSTART:20201101T090000
END:STANDARD
END:VTIMEZONE
BEGIN:VEVENT
DTSTART;TZID=America/Los_Angeles:20190315T190000
DTEND;TZID=America/Los_Angeles:20190315T210000
DTSTAMP:20260423T032335
CREATED:20190226T073310Z
LAST-MODIFIED:20190327T000928Z
UID:10000158-1552676400-1552683600@showmentum.com
SUMMARY:Comedy on the Bayou at Embodied Wines
DESCRIPTION:Embodied Wines presents a night of standup comedy on the front porch. Join us for us for a hilarious night of comedy\, great wine\, and delicious food. The show starts at 7:00pm and it’s open seating. Food will be available and for sale out front from The South Smoking BBQ. ​​Wine and Bottle Service will also be available for purchase. Buy your tickets now online\, or at the door. \n\n\n\nFeatured Comics\n\n\n\n\n\nBrian Maggi\n\n\n\nBrian is the creator\, and host of Adulted\, and a Bay Area comedian and writer. He left the high stress world of tech for the low wage life of standup comedy performing under the stage name Skip Everett. His biggest claim to fame is inventing the Spam filter so he’d have an excuse for not reading his parents’ emails. \n\n\n\nHe performs regularly around San Francisco including Cobbs\, The Punchline\, and Rooster T. Feathers. He has written for Chicago’s Second City\, and co-created the underground humor magazine “In Formation.” He is a published author\, and keynote speaker on innovation and creativity. \n\n\n\n\n\nAustin Blaylock\n\n\n\nAustin is a comedian and writer from the San Francisco Bay Area. Austin has performed standup comedy at the San Francisco Punchline\, Cobb’s Comedy Club\, Rooster T. Feather’s\, San Francisco Comic Con\, and Silicon Valley Comic Con. His comedy has been described as “Low self esteem worded eloquently”. Austin hosts the most popular show in the South Bay Area called Super Stacked\, and lives with his cat. \n\n\n\n\n\nAlexia Jackson\n\n\n\nAlexia “it’s time for mothers to COME OUT – everyone else has – what the hell!” As a modern mother of three\, the last of which just left for college\, Alexia has returned to the comedy scene to finally “tell the truth” about the impossible and humbling journey of raising kids. Her stories include getting overly involved with the Playmobile Mountain Rescue Set while playing with her son\, her heroic effort to solve a third grade word problem\, the losses in motherhood – “like your waist”- and advice to young couples who are thinking about having kids- “think about somethin’ else…” \n\n\n\n\n\nMatt Gubser\n\n\n\nDon’t let his laid-back demeanor and messianic appearance fool you\, Matt Gubser irreverently slices through social conventions of all shapes and sizes with his razor-sharp wit\, and recounts the absurdity of his experiences parenting\, dating and aging. Also dick jokes. \n\n\n\nMatt is a staple of the San Francisco Bay Area comedy scene and performs across the US & Canada. He has appeared in comedy festivals all over the country.  He is a part of the Ha Ha Heathens comedy tour and a contributor to Savage Henry Magazine.
URL:https://showmentum.com/show/comedy-on-the-bayou-march-15-2019/
LOCATION:Embodied Wines\, 2271 S. Vasco Road. Suite D\, Livermore\, California\, 94550\, United States
CATEGORIES:Embodied Wines,Standup
ATTACH;FMTTYPE=image/png:https://showmentum.com/wp-content/uploads/2019/02/comedy-on-the-bayou-banner.png
END:VEVENT
END:VCALENDAR