BEGIN:VCALENDAR
VERSION:2.0
PRODID:-//Showmentum, Inc. - ECPv6.15.20//NONSGML v1.0//EN
CALSCALE:GREGORIAN
METHOD:PUBLISH
X-WR-CALNAME:Showmentum, Inc.
X-ORIGINAL-URL:https://showmentum.com
X-WR-CALDESC:Events for Showmentum, Inc.
REFRESH-INTERVAL;VALUE=DURATION:PT1H
X-Robots-Tag:noindex
X-PUBLISHED-TTL:PT1H
BEGIN:VTIMEZONE
TZID:America/Los_Angeles
BEGIN:DAYLIGHT
TZOFFSETFROM:-0800
TZOFFSETTO:-0700
TZNAME:PDT
DTSTART:20250309T100000
END:DAYLIGHT
BEGIN:STANDARD
TZOFFSETFROM:-0700
TZOFFSETTO:-0800
TZNAME:PST
DTSTART:20251102T090000
END:STANDARD
BEGIN:DAYLIGHT
TZOFFSETFROM:-0800
TZOFFSETTO:-0700
TZNAME:PDT
DTSTART:20260308T100000
END:DAYLIGHT
BEGIN:STANDARD
TZOFFSETFROM:-0700
TZOFFSETTO:-0800
TZNAME:PST
DTSTART:20261101T090000
END:STANDARD
BEGIN:DAYLIGHT
TZOFFSETFROM:-0800
TZOFFSETTO:-0700
TZNAME:PDT
DTSTART:20270314T100000
END:DAYLIGHT
BEGIN:STANDARD
TZOFFSETFROM:-0700
TZOFFSETTO:-0800
TZNAME:PST
DTSTART:20271107T090000
END:STANDARD
END:VTIMEZONE
BEGIN:VEVENT
DTSTART;TZID=America/Los_Angeles:20260501T193000
DTEND;TZID=America/Los_Angeles:20260501T213000
DTSTAMP:20260421T031615
CREATED:20260312T044231Z
LAST-MODIFIED:20260411T004518Z
UID:10000332-1777663800-1777671000@showmentum.com
SUMMARY:Laughs in a Glass at 3 Steves Winery Starring Emily Van Dyke May 1\, 2026
DESCRIPTION:Reserved Seating Included with Each Ticket\n\n\n\nYour table is automatically reserved under the last name of the ticket purchaser\, so your seats are ready when you arrive. If you have a seating preference such as front\, middle or back or want to sit with another party text (925) 290-7230 by 4:00 pm day of show to let us know. \n\n\n\n\n\nLaughs in a Glass at 3 Steves\n\n\n\n\n\nEnjoy live standup comedy Livermore’s most fun winery. The show combines award‑winning wine\, craft beer\, and great food with laughs in the heart of wine country. Now in its 7th season\, this show is great for date nights\, friend groups\, and wine lovers who want a fun\, experience minutes from downtown Livermore. \n\n\n\nSet in the beautiful hills of the Livermore Valley\, Laughs in a Glass features a rotating lineup of professional standup comedians. Enjoy wines by the glass or bottle\, and order food before the show starts. \n\n\n\nDoors open at 6:00 pm and the show starts around 7:30 pm. Shows typically go until 9:30 with a short intermission. Guests can settle in\, socialize\, and savor the 3 Steves Winery experience. Everyone gets a reserved seat. Tables are organized by party\, making it easy all to enjoy the show in comfort. \n\n\n\nWith limited seating\, Laughs in a Glass often sells out\, so purchasing tickets ahead of time is strongly recommended. \n\n\n\n\n\n\n\n\n\n\n\n\n\n\n\n\n\n\n\n\n\n\n\n\n\n\n\n\n\n\n\n\n\nThe Evening’s Comedy Line Up\n\n\n\n\n\n\n\n\n\n\nEmily Van Dyke\n\n\n\nEmily loves best friend tattoos and telling inappropriate stories at baby showers. Emily has opened for Colin Quinn and Judah Friedlander\, she has performed in SF Sketchfest and she’s a local favorite in the Bay Area. \n\nBorn and raised in Logansport\, Indiana\, a town with one high school and a basketball hoop in every driveway\, Emily Van Dyke has made a 15-years-and-counting home of the Bay Area. She started stand-up in 2011 after being laid off from her job as an art teacher. Says Van Dyke\, “the lady at the unemployment office told me to take a class and that I should use the time off to explore myself and learn something new. So I did. I took a couple months of SF Comedy College classes\, and bombed in the privacy of a 3rd floor conference room.” \n\nVan Dyke describes her writing process as “pretty old-timey\,” writing ideas in a purse notebook\, taking notes when she makes a friend laugh\, recording voice memos while driving and scribbling set lists on paper plates and napkins. Her comedy album “Feeling Myself” is available to stream and buy wherever you hear comedy. \n\n \n\n\n\n\n\n\n\n\n\n\n\n\n\nJalisa Robinson\n\n\nJalisa Robinson brings her sometimes-deadpan\, sometimes-sparkling style to everything from race to the patriarchy to getting hit on at Whole Foods. A native midwesterner\, she now lives in Los Angeles. She’s opened for Hannibal Burress and she regularly performs at Punchline San Francisco\, the Set-Up LA\, Don’t Tell Comedy\, Rooster T. Feathers\, San Jose Improv\, Alameda Comedy Club\, and Cheaper Than Therapy where she’s also an alumnus artist resident and producer. She’s performed at comedy festivals including SF Sketchfest and Oakland Comedy Festival and she was a San Francisco International Comedy Competition Semi-Finalist (2022). \n\n\n\n\n\n\n\n\n\n\n\n\n\nNic B\, guest Host\n\n\n\nA husband\, father\, and proud Livermore resident\, Nic’s style blends brutally honest self reflection with the absurd thoughts that keep him awake at night. He has been a favorite on indie shows\, bars & wineries\, club showcases\, and is a rising star on the roast battle circuit. Nic is sure to leave you with memorable stories & punchlines and plenty of new things to research after the show. \n\n\n\n\n\n\n\n\n\n\n\n\n\n\n\n\n\nCulinary Angels is an all-volunteer\, donation-based non-profit organization that delivers nutritious meals to people going through a cancer. \n\n\n\nA portion of each ticket sold is donated to Culinary Angels to help them with their mission to bring nutritious meals to people going through cancer. \n\n\n\nTheir volunteers are trained to cook with as many organic ingredients as possible and focus on nutrient-rich\, plant-based\, seasonal ingredients. Emphasis is placed on using cruciferous vegetables\, sea vegetables and homemade broths in our soups. Culinary Angels believes this philosophy will help promote health\, wellness\, and hope to people who are compromised by their challenge. Organic\, healing foods are an important part of our bodies’ natural instinct to be well! 
URL:https://showmentum.com/show/laughs-in-a-glass-at-3-steves-winery-starring-emily-van-dyke-may-1-2026/
LOCATION:3 Steves Winery\, 5700 Greenville Road\, Livermore\, 94550\, United States
CATEGORIES:3 Steves Winery
ATTACH;FMTTYPE=image/jpeg:https://showmentum.com/wp-content/uploads/2026/03/Featured-Laughs-in-a-Glass-May-1-2026-.jpg
END:VEVENT
BEGIN:VEVENT
DTSTART;TZID=America/Los_Angeles:20260514T200000
DTEND;TZID=America/Los_Angeles:20260514T213000
DTSTAMP:20260421T031615
CREATED:20260414T031551Z
LAST-MODIFIED:20260414T031745Z
UID:10000338-1778788800-1778794200@showmentum.com
SUMMARY:Crack Me Up at 1st Street Wine Company Thursday May 14\, 2026 8pm
DESCRIPTION:Reserved Seating Included with Each Ticket\n\n\n\nYour table is automatically reserved under the last name of the ticket purchaser\, so your seats are ready when you arrive. If you have a seating preference such as front\, middle or back or want to sit with another party text (925) 290-7230 by 4:00 pm day of show to let us know. \n\n\n\n\n\nCrack Me Up at 1st Street Wine Company\n\n\n\n\n\nCan you keep a straight face for 3 minutes? Let’s find out. \n\n\n\nThree comics\, one audience member. Each comic gets 60 seconds to make you laugh. If you can face all three without cracking up\, you win a prize! \n\n\n\nPlus\, each comedian performs their own stand-up set before the challenge begins. It’s part comedy show\, part game show\, all laughs! \n\n\n\n\n\n\n\n\n\n\n\n\n\n\n\nJared Camacho\, your host\n\n\n\nJared “Nacho” Camacho is an improviser and stand up comedian from Livermore\, California. His style aims to poke fun at life’s ambiguity with a witty and sardonic tone. Jared likes to interact with the audience and share hilarious anecdotes\, often making fun of himself and those closest to him. He runs a monthly “Roast Battle Royale” at Livermore’s own R-Place Music Club. \n\n\n\n\n\n\n\n\n\n\n\n\n\n\n\njeff Durban\n\n\n\nJeff spent a decade at Stryker convincing doctors that complicated medical equipment was actually very chill. It was not very chill. He has twin 18-year-old boys. He has not slept since 2006. When he’s not explaining blood analyzers to people who didn’t ask\, Jeff is running\, biking\, dirt biking\, mountain biking\, doing triathlons\, and restoring vintage cars — because apparently weekends are for suffering.
URL:https://showmentum.com/show/crack-me-up-at-1st-street-wine-company-thursday-may-14-2026-8pm/
LOCATION:1st Street Wine Company\, 2211 1st Street\, Livermore\, CA\, 94550\, United States
CATEGORIES:1st Street Wine Company
ATTACH;FMTTYPE=image/jpeg:https://showmentum.com/wp-content/uploads/2026/01/Crack-Me-Up-Series-Header.jpg
END:VEVENT
BEGIN:VEVENT
DTSTART;TZID=America/Los_Angeles:20260522T190000
DTEND;TZID=America/Los_Angeles:20260522T210000
DTSTAMP:20260421T031615
CREATED:20260414T034630Z
LAST-MODIFIED:20260414T034637Z
UID:10000339-1779476400-1779483600@showmentum.com
SUMMARY:The Marvelous Story-Go-Round at Omega Road Winery May 22\, 7:00 pm
DESCRIPTION:Reserved Seating Included with Each Ticket\n\n\n\nYour table is automatically reserved under the last name of the ticket purchaser\, so your seats are ready when you arrive. If you have a seating preference such as front\, middle or back or want to sit with another party text (925) 290-7230 by 4:00 pm day of show to let us know. \n\n\n\n\n\nThe Marvelous Story Go Round\n\n\n\n\n\nA night of hilarious true tales\n\n\n\nGet ready to laugh\, cringe\, and nod in recognition as people take the mic to share their funniest real-life stories. We’re telling hilarious tales about first or worst anything – jobs\, boyfriends\, concerts it could even be both!  \n\n\n\nIn the spirit of The Moth (but strictly the funny side)\, a lineup of comics will each tell a funny story about firsts or worsts—jobs\, lover\, car\, marriages. Expect honesty\, chaos\, and comedy gold. \n\n\n\nThen it’s your turn! \n\n\n\nAt the end of the show\, anyone in the audience can jump up and share their own quick\, one-minute story. The mic is open\, the laughs are real\, and the stories might just steal the night. \n\n\n\n\n\n\n\n\n\nDining Options\n\n\n\nBeyond the Table will be on site with delicious dining options\, along with Omega Road and New Vintage will be pouring your favorite local wines and hard spritzers. Come hungry\, thirsty\, and ready to laugh. \n\n\n\nDrawing from her experience as founder and co-owner of Taste & Wander Charcuterie\, Amanda expands beyond the board\, bringing her signature hospitality and flavor to a broader\, chef-led table. \n\n\n\n\n\n\n\n\n\n\n\n\n\n\n\n\n\n\nYour Storytellers\n\n\n\n\n\n\n\n\n\n\n\n\n\n\n\nBill Schott\n\n\n\nBill is a SF Bay Area native who has performed in venues all over California\, some big\, some very small and some unique (a laundromat and a junkyard to name a few). He has also performed in clubs in Paris\, Madrid and Tokyo. He is the youngest of 7 siblings and his comedy is based mostly on real events\, except for the parts that are totally made. \n\n\n\n\n\n\n\n\n\n\n\n\n\nJeff Durban\n\n\n\nJeff spent a decade at Stryker convincing doctors that complicated medical equipment was actually very chill. It was not very chill. He has twin 18-year-old boys. He has not slept since 2006. When he’s not explaining blood analyzers to people who didn’t ask\, Jeff is running\, biking\, dirt biking\, mountain biking\, doing triathlons\, and restoring vintage cars — because apparently weekends are for suffering. \n\n\n\n\n\n\n\nYour Host\n\n\n\n\n\n\n\n\n\n\n\nBrian Maggi\n\n\n\nBrian is the creator\, and host of Adulted\, and a Bay Area comedian and writer. He left the high stress world of tech for the low wage life of standup comedy performing under the stage name Skip Everett. His biggest claim to fame is inventing the Spam filter so he’d have an excuse for not reading his parents’ emails. \n\nHe performs regularly around San Francisco including Cobbs\, The Punchline\, and Rooster T. Feathers. He has written for Chicago’s Second City\, and co-created the underground humor magazine “In Formation.” He is a published author\, and keynote speaker on innovation and creativity.
URL:https://showmentum.com/show/the-marvelous-story-go-round-at-omega-road-winery-may-22-700-pm/
LOCATION:Omega Road Winery\, 2135 S Vasco Rd Unit C\, Livermore\, CA\, 94550\, United States
CATEGORIES:Omega Road Winery
ATTACH;FMTTYPE=image/jpeg:https://showmentum.com/wp-content/uploads/2025/12/Feature-Story-Go-Round-January-30-2026.jpg
END:VEVENT
BEGIN:VEVENT
DTSTART;TZID=America/Los_Angeles:20260529T193000
DTEND;TZID=America/Los_Angeles:20260529T220000
DTSTAMP:20260421T031615
CREATED:20260211T230934Z
LAST-MODIFIED:20260414T035127Z
UID:10000326-1780083000-1780092000@showmentum.com
SUMMARY:The Late Pour Comedy Series at Concannon Vineyard May 29\, 2026
DESCRIPTION:Reserved Seating Included with Each Ticket\n\n\n\nYour table is automatically reserved under the last name of the ticket purchaser\, so your seats are ready when you arrive. If you have a seating preference such as front\, middle or back or want to sit with another party text (925) 290-7230 by 4:00 pm day of show to let us know. \n\n\n\n\n\nThe Late Pour Comedy Series at Concannon Vineyard\n\n\n\n\n\nDoors open at 6pm to enjoy wine and lounge before\, and the show\n\n\n\nRaise your glass and get ready for a night of laughter at The Late Pour\, a comedy show at Concannon Vineyard featuring top comedians from the Bay Area and beyond. This show blends hilarious stand-up with the laid-back\, sophisticated vibe you can only find at one of California’s premier wineries. \n\n\n\nEnjoy the evening with award-winning wine\, local craft beer\, and delicious food options\, all available for purchase as you settle in for unforgettable performances from some of the funniest comics around. Whether you’re out for date night\, a group hang\, or just need a good laugh\, The Late Pour pours equal parts comedy\, flavor\, and vineyard charm into one perfect night. \n\n\n\nThe Estate Room is our newest tasting venue and an exclusive lounge for members and their guests. With lounge-style seating and a relaxed\, low-key atmosphere\, it offers a quieter\, more personal way to experience Concannon. \n\n\n\n\n\n\n\nStarring…\n\n\n\n\n\n\n\n\n\n\nXander Beltran\n\n\n\nOriginating from Southern California\, Xander Beltran loves burritos\, days at the beach\, and just kinda hanging out.Making friends wherever he goes\, Xander spends time in all sorts of scenes and hangouts and is able to portray these worlds vividly through insightful storytelling and observational comedy. His laid-back delivery\, character creation\, impressions and animated act-outs make for incredible comedy. \n\nHe currently operates out of San Francisco and performs all over the country. He’s opened for D.L. Hughley\, Dean Delray\, Eric Schwartz\, Morgan Jay\, Nick Hoff\, Erica Rhodes\, Jeff Dye\, Deon Cole\, Jamie Kennedy\, Erik Griffin\, Zoltan Kaszas and Kel Mitchell. Xander won the 2018 Cobb’s Comedy Competition\, was a Finalist at the 2019 House of Comedy’s Funniest Person W/ A Day Job contest\, was recently a semi-finalist in the prestigious SF International Comedy Competition. He’s been a featured performer at Big Pine Comedy Festival\, Savage Henry Festival and Oakland Comedy Festival. \n\nXander has been seen on PBS\, Hulu and his debut special with Tiny Pony has amassed 44k+ views. He’s had multiple clips go viral and is quickly becoming one of the West Coast’s top rising comedians. Come for his beautiful hair and stay to see how long into his set he starts sweating. \n\n\n\n\n\n\n\n\n\n\n\n\n\nDavid Nguyen\n\n\n\nDavid is a writer and comedian currently writing and comedianing in California’s Bay Area. One half of The Colossal Show\, San Jose’s premier independent comedy showcase\, David is a mainstay both in the local scene and comedy clubs across the state. David is a refreshingly positive voice in stand up – his act has a sharp edge but never draws blood. He’s like a bag of jelly beans with the licorice and popcorn beans left in – overall\, very sweet\, but with just enough bitter notes to keep it interesting. \n\nDavid was a finalist in the 2011 Rooster T Feathers New Talent and 2012 Battle of the Bay comedy competitions\, and has worked with Carly Aquilino\, Pete Davidson\, Kevin Shea\, Sheng Wang\, Brandon T. Jackson\, Phil Palisoul\, Dat Phan\, Marc Ryan\, John Henton\, John Heffron\, and Robin Williams. He opened Anthony Jeselnik’s 3rd Special: Thoughts & Prayers. \n\n \n\n\n\n\n\n\n\n\n\n\n\n\n\nNic B.\n\n\n\nA husband\, father\, and proud Livermore resident\, Nic’s style blends brutally honest self reflection with the absurd thoughts that keep him awake at night. He has been a favorite on indie shows\, bars & wineries\, club showcases\, and is a rising star on the roast battle circuit. Nic is sure to leave you with memorable stories & punchlines and plenty of new things to research after the show. \n\n\n\n\n\n\n\n\n\nBrian Maggi\, Your Host\n\n\n\nBrian is the creator\, and host of Adulted\, and a Bay Area comedian and writer. He left the high stress world of tech for the low wage life of standup comedy performing under the stage name Skip Everett. His biggest claim to fame is inventing the Spam filter so he’d have an excuse for not reading his parents’ emails. \n\nHe performs regularly around San Francisco including Cobbs\, The Punchline\, and Rooster T. Feathers. He has written for Chicago’s Second City\, and co-created the underground humor magazine “In Formation.” He is a published author\, and keynote speaker on innovation and creativity. \n\n\n\n\n\n\n\n\n\n\n\n\n\n\n\n\n\n\nComedy in Livermore\, Comedy Night\, comedy shows bay area\, date night bay area
URL:https://showmentum.com/show/the-late-pour-comedy-series-at-concannon-vineyard-may-29-2026-starring-xander-beltran/
LOCATION:Concannon Vineyard\, 4950 Tesla Road\, Livermore\, California\, 94550\, United States
CATEGORIES:Concannon
ATTACH;FMTTYPE=image/jpeg:https://showmentum.com/wp-content/uploads/2026/02/The-Late-Pour-May-29-2026-Featured-1.jpg
END:VEVENT
END:VCALENDAR