BEGIN:VCALENDAR
VERSION:2.0
PRODID:-//Showmentum, Inc. - ECPv6.15.20//NONSGML v1.0//EN
CALSCALE:GREGORIAN
METHOD:PUBLISH
X-WR-CALNAME:Showmentum, Inc.
X-ORIGINAL-URL:https://showmentum.com
X-WR-CALDESC:Events for Showmentum, Inc.
REFRESH-INTERVAL;VALUE=DURATION:PT1H
X-Robots-Tag:noindex
X-PUBLISHED-TTL:PT1H
BEGIN:VTIMEZONE
TZID:America/Los_Angeles
BEGIN:DAYLIGHT
TZOFFSETFROM:-0800
TZOFFSETTO:-0700
TZNAME:PDT
DTSTART:20180311T100000
END:DAYLIGHT
BEGIN:STANDARD
TZOFFSETFROM:-0700
TZOFFSETTO:-0800
TZNAME:PST
DTSTART:20181104T090000
END:STANDARD
BEGIN:DAYLIGHT
TZOFFSETFROM:-0800
TZOFFSETTO:-0700
TZNAME:PDT
DTSTART:20190310T100000
END:DAYLIGHT
BEGIN:STANDARD
TZOFFSETFROM:-0700
TZOFFSETTO:-0800
TZNAME:PST
DTSTART:20191103T090000
END:STANDARD
BEGIN:DAYLIGHT
TZOFFSETFROM:-0800
TZOFFSETTO:-0700
TZNAME:PDT
DTSTART:20200308T100000
END:DAYLIGHT
BEGIN:STANDARD
TZOFFSETFROM:-0700
TZOFFSETTO:-0800
TZNAME:PST
DTSTART:20201101T090000
END:STANDARD
BEGIN:DAYLIGHT
TZOFFSETFROM:-0800
TZOFFSETTO:-0700
TZNAME:PDT
DTSTART:20210314T100000
END:DAYLIGHT
BEGIN:STANDARD
TZOFFSETFROM:-0700
TZOFFSETTO:-0800
TZNAME:PST
DTSTART:20211107T090000
END:STANDARD
BEGIN:DAYLIGHT
TZOFFSETFROM:-0800
TZOFFSETTO:-0700
TZNAME:PDT
DTSTART:20220313T100000
END:DAYLIGHT
BEGIN:STANDARD
TZOFFSETFROM:-0700
TZOFFSETTO:-0800
TZNAME:PST
DTSTART:20221106T090000
END:STANDARD
BEGIN:DAYLIGHT
TZOFFSETFROM:-0800
TZOFFSETTO:-0700
TZNAME:PDT
DTSTART:20230312T100000
END:DAYLIGHT
BEGIN:STANDARD
TZOFFSETFROM:-0700
TZOFFSETTO:-0800
TZNAME:PST
DTSTART:20231105T090000
END:STANDARD
BEGIN:DAYLIGHT
TZOFFSETFROM:-0800
TZOFFSETTO:-0700
TZNAME:PDT
DTSTART:20240310T100000
END:DAYLIGHT
BEGIN:STANDARD
TZOFFSETFROM:-0700
TZOFFSETTO:-0800
TZNAME:PST
DTSTART:20241103T090000
END:STANDARD
BEGIN:DAYLIGHT
TZOFFSETFROM:-0800
TZOFFSETTO:-0700
TZNAME:PDT
DTSTART:20250309T100000
END:DAYLIGHT
BEGIN:STANDARD
TZOFFSETFROM:-0700
TZOFFSETTO:-0800
TZNAME:PST
DTSTART:20251102T090000
END:STANDARD
BEGIN:DAYLIGHT
TZOFFSETFROM:-0800
TZOFFSETTO:-0700
TZNAME:PDT
DTSTART:20260308T100000
END:DAYLIGHT
BEGIN:STANDARD
TZOFFSETFROM:-0700
TZOFFSETTO:-0800
TZNAME:PST
DTSTART:20261101T090000
END:STANDARD
BEGIN:DAYLIGHT
TZOFFSETFROM:-0800
TZOFFSETTO:-0700
TZNAME:PDT
DTSTART:20270314T100000
END:DAYLIGHT
BEGIN:STANDARD
TZOFFSETFROM:-0700
TZOFFSETTO:-0800
TZNAME:PST
DTSTART:20271107T090000
END:STANDARD
END:VTIMEZONE
BEGIN:VEVENT
DTSTART;TZID=America/Los_Angeles:20260327T193000
DTEND;TZID=America/Los_Angeles:20260327T220000
DTSTAMP:20260423T013457
CREATED:20260209T222612Z
LAST-MODIFIED:20260214T225133Z
UID:10000325-1774639800-1774648800@showmentum.com
SUMMARY:The Late Pour Comedy Series at Concannon Vineyard March 27\, 2026
DESCRIPTION:Reserved Seating Included with Each Ticket\n\n\n\nYour table is automatically reserved under the last name of the ticket purchaser\, so your seats are ready when you arrive. If you have a seating preference such as front\, middle or back or want to sit with another party text (925) 290-7230 by 4:00 pm day of show to let us know. \n\n\n\n\n\nThe Late Pour Comedy Series at Concannon Vineyard\n\n\n\nDoors open at 6pm to enjoy wine and lounge before\, and the show starts at 7:30 pm.\n\n\n\nRaise your glass and get ready for a night of laughter at The Late Pour\, a comedy show at Concannon Vineyard featuring top comedians from the Bay Area and beyond. This show blends hilarious stand-up with the laid-back\, sophisticated vibe you can only find at one of California’s premier wineries. \n\n\n\nEnjoy the evening with award-winning wine\, local craft beer\, and delicious food options\, all available for purchase as you settle in for unforgettable performances from some of the funniest comics around. Whether you’re out for date night\, a group hang\, or just need a good laugh\, The Late Pour pours equal parts comedy\, flavor\, and vineyard charm into one perfect night. \n\n\n\nThe Estate Room is our newest tasting venue and an exclusive lounge for members and their guests. With lounge-style seating and a relaxed\, low-key atmosphere\, it offers a quieter\, more personal way to experience Concannon. \n\n\n\n\n\n\n\nStarring…\n\n\n\n\n\n\n\n\n\n\n\nPriya Puram\n\n\n\nPriya is a sharp\, high-energy comedian based in San Francisco who left engineering for stand up – a bold move driven by passion (and a desire to make less money). As a first-generation Indian American\, she brings biting takes on tech\, culture\, and identity to the stage\, earning laughs at top venues like Cobb’s\, The Punchline\, Cheaper Than Therapy\, Don’t Tell Comedy\, and SF Sketchfest. \n\n\n\n\n\n\n\n\n\n\n\n\n\n\nBill Schott\n\n\n\nBill is a SF Bay Area native who has performed in venues all over California\, some big\, some very small and some unique (a laundromat and a junkyard to name a few). He has also performed in clubs in Paris\, Madrid and Tokyo. He is the youngest of 7 siblings and his comedy is based mostly on real events\, except for the parts that are totally made. \n\n\n\n\n\n\n\n\n\n\n\n\n\n\n\nHosted By brian Maggi\n\n\n\nBrian is the creator\, and host of Adulted\, and a Bay Area comedian and writer. He left the high stress world of tech for the low wage life of standup comedy performing under the stage name Skip Everett. His biggest claim to fame is inventing the Spam filter so he’d have an excuse for not reading his parents’ emails. \n\nHe performs regularly around San Francisco including Cobbs\, The Punchline\, and Rooster T. Feathers. He has written for Chicago’s Second City\, and co-created the underground humor magazine “In Formation.” He is a published author\, and keynote speaker on innovation and creativity.
URL:https://showmentum.com/show/the-late-pour-comedy-series-at-concannon-vineyard-march-27-2026-starring-priya-puram/
LOCATION:Concannon Vineyard\, 4950 Tesla Road\, Livermore\, California\, 94550\, United States
CATEGORIES:Concannon
ATTACH;FMTTYPE=image/jpeg:https://showmentum.com/wp-content/uploads/2026/02/The-Late-Pour-March-27-2026-Featured-1.jpg
END:VEVENT
BEGIN:VEVENT
DTSTART;TZID=America/Los_Angeles:20260227T193000
DTEND;TZID=America/Los_Angeles:20260227T220000
DTSTAMP:20260423T013457
CREATED:20260202T211819Z
LAST-MODIFIED:20260213T225058Z
UID:10000323-1772220600-1772229600@showmentum.com
SUMMARY:The Late Pour Comedy Series at Concannon Vineyard February 27\, 2026
DESCRIPTION:Reserved Seating Included with Each Ticket\n\n\n\nYour table is automatically reserved under the last name of the ticket purchaser\, so your seats are ready when you arrive. If you have a seating preference such as front\, middle or back or want to sit with another party text (925) 290-7230 by 4:00 pm day of show to let us know. \n\n\n\n\n\nThe Late Pour Comedy Series at Concannon Vineyard\n\n\n\nDoors open at 6PM to enjoy wine and lounge before\, and the show starts at 7:30PM\n\n\n\nRaise your glass and get ready for a night of laughter at The Late Pour\, a comedy show at Concannon Vineyard featuring top comedians from the Bay Area and beyond. This show blends hilarious stand-up with the laid-back\, sophisticated vibe you can only find at one of California’s premier wineries. \n\n\n\nEnjoy the evening with award-winning wine\, local craft beer\, and delicious food options\, all available for purchase as you settle in for unforgettable performances from some of the funniest comics around. Whether you’re out for date night\, a group hang\, or just need a good laugh\, The Late Pour pours equal parts comedy\, flavor\, and vineyard charm into one perfect night. \n\n\n\nThe Estate Room is our newest tasting venue and an exclusive lounge for members and their guests. With lounge-style seating and a relaxed\, low-key atmosphere\, it offers a quieter\, more personal way to experience Concannon. \n\n\n\n\n\n\n\nStarring…\n\n\n\n\n\n\nBrian Maggi\n\n\n\nBrian is the creator\, and host of Adulted\, and a Bay Area comedian and writer. He left the high stress world of tech for the low wage life of standup comedy performing under the stage name Skip Everett. His biggest claim to fame is inventing the Spam filter so he’d have an excuse for not reading his parents’ emails. \n\nHe performs regularly around San Francisco including Cobbs\, The Punchline\, and Rooster T. Feathers. He has written for Chicago’s Second City\, and co-created the underground humor magazine “In Formation.” He is a published author\, and keynote speaker on innovation and creativity. \n\n\n\n\n\n\n\n\n\n\n\n\n\n\n\n\n\n\n\nJacob Parnell\n\n\n\nJacob Parnell is an up and coming comic from Livermore\, CA. He won Best Comic at Tommy T’s open mic competition\, was featured on “Comedians Got Talent” at the Retro Junkie in Walnut Creek\, and performed at Comedy Oakland and the award-winning Alameda Comedy Club. Jacob brings an upbeat vibe to the stage with his clean\, observational humor. Fun fact: He’s actually a church pastor. So he’s already used to people tuning him out! \n\n\n\n\n\n\n\n\n\n\n\n\n\n\n\nBill Heil\n\n\n\nBill’s an up-and-coming comic from Berkeley\, CA. He might be the tallest comedian you ever see. He performs all over the Bay and is a regular panelist at the Tech Pitch Roast shows in San Francisco. \n\n\n\n\n\n\n\n\n\n\n\n\n\n\nComedy in Livermore\, comedy near me\, Comedy Night\, date night bay area\, standup comedy
URL:https://showmentum.com/show/the-late-pour-comedy-series-at-concannon-vineyard-friday-february-27-2026-730-pm-starring-brian-maggi/
LOCATION:Concannon Vineyard\, 4950 Tesla Road\, Livermore\, California\, 94550\, United States
CATEGORIES:Concannon
ATTACH;FMTTYPE=image/jpeg:https://showmentum.com/wp-content/uploads/2026/02/The-Late-Pour-February-27-2026-Featured.jpg
END:VEVENT
BEGIN:VEVENT
DTSTART;TZID=America/Los_Angeles:20200221T190000
DTEND;TZID=America/Los_Angeles:20200221T220000
DTSTAMP:20260423T013457
CREATED:20191213T071556Z
LAST-MODIFIED:20200109T064819Z
UID:10000175-1582311600-1582322400@showmentum.com
SUMMARY:Comedy & Music at Concannon Vineyards with Pauline Yasuda
DESCRIPTION:San Francisco Comedy Competition Finalist\, Pauline Yasuda\n\n\n\n\n\nPauline Yasuda is the first-ever Asian female to make the finals of the prestigious San Francisco Comedy Competition\, which is in its 44th year.  She placed 4th overall and joins the list of previous finalists that include Robin Williams\, Ellen DeGeneres\, Dana Carvey\, and Dane Cook. She is also the winner of the 2013 California’s Funniest Female Competition.  \n\n\n\nShe is an alumna of Acme Comedy Theatre and has shared the stage with Matthew Lillard\, Alex Borstein\, and Tatyana Ali as a sketch performer and writer.  As a stand-up comedian\, she won the Wild Card Round at the World Series of Comedy in 2012.  In 2014\, she was considered one of the “Best of Fest” at the Burbank Comedy Festival.   \n\n\n\n\n\n\n\n\n\n\n\n\n\n\n\n\n\n\n\n\n\nPanthelion\n\n\n\nSan Jose based band Panthelion brings its NuClass movement to awe struck audiences in their much hailed live performances. \n\n\n\nPanthelion is the innovative force behind the new musical genre known as NuClass. A term coined by the group after attempts to classify their music according to traditional standards failed\, NuClass stands for Neo Urban Classical Music. NuClass takes the sophistication of the concert hall and seamlessly blends it with the rawness of the streets. Stylistically\, NuClass draws on elements of jazz\, classical\, tribal\, urban-groove\, hardcore and electronica.
URL:https://showmentum.com/show/comedy-music-at-concannon-vineyards-featuring-pauline-yasuda/
LOCATION:Concannon Vineyard\, 4950 Tesla Road\, Livermore\, California\, 94550\, United States
CATEGORIES:Concannon
ATTACH;FMTTYPE=image/jpeg:https://showmentum.com/wp-content/uploads/2019/12/Comedy-Music-Concannon-February-2020_featured.jpg
ORGANIZER;CN="Showmentum%2C Inc.":MAILTO:info@showmentum.com
END:VEVENT
BEGIN:VEVENT
DTSTART;TZID=America/Los_Angeles:20191018T190000
DTEND;TZID=America/Los_Angeles:20191018T220000
DTSTAMP:20260423T013457
CREATED:20191001T190101Z
LAST-MODIFIED:20191018T210605Z
UID:10000174-1571425200-1571436000@showmentum.com
SUMMARY:Comedy & Music at Concannon Vineyard With Gina Stahl-Haven and The Jeff Bordes Trio featuring Rudy Parris October 18\, 2019
DESCRIPTION:Join us for a night of standup comedy\, live music and award winning wines at the historic Concannon Vineyard. Featuring comedian Gina Stahl-Haven followed by acoustic blues & jazz from The Jeff Bordes Trio featuring Rudy Parris. See below for more information. \n\n\n\n\n\n\n\n\n\n \n\n\n\n\n\nShowmentum and Concannon Vineyard present an evening of standup comedy and live music at the estate grounds.  \n\n\n\nCatch One of the Fastest Rising Stars in Comedy\n\n\n\nStart your evening off in the Tasting Room with laughs from standup comedian Gina Stahl-Haven. Gina took 2nd place in this year’s San Francisco Comedy Competition\, making her the first female finalist since Ellen DeGeneres in 1985. This amazing contest has launched other comedy greats like Robin Williams\, Dana Carvey\, Marc Maron\, and Patton Oswald. This is a unique opportunity to catch Gina\, in one of her first public performances since finishing the competition. \n\n\n\nAcoustic Blues & Jazz\n\n\n\nThe Jeff Bordes Trio featuring Rudy Parris will be playing in the Estate Room after the comedy show. They’ll be playing acoustic Jazz & Blues. Jeff has played live and recorded with some of the biggest names in music including; Tom Petty\, Stevie Nicks\, and Branford Marsalis.  Rounding out Jeff’s trio for the night will be guitarist and finalist from “The Voice”\, Rudy Parris.  \n\n\n\nYou can find out more about each performer below. \n\n\n\n\n\n\n\nLimited seating available. Bottles and glasses of wine as well as deli items will be available for purchase during event. All attendees must be a minimum of 21 years old. \n\n\n\n\n\n\n\n\n\nFeaturing\n\n\n\n\n\n\n\n\n\nGina Stahl-Haven\n\n\n\nGina Stahl-Haven has been performing in the comedy and improv world for over 15 years; featured at the Un-Scripted Theatre Company\, SF Improv Festival\, Hawaii Improv Festival and various comedy spots throughout the Bay Area. She is the 2nd Place Winner of the San Francisco International Comedy Competition in 2019 (the first woman to place this high in 34 years) and winner of the 2nd Annual MarinComedy Amateur Competition. Gina’s real take on life\, motherhood\, dating\, and navigating Costco\, combined with her intoxicating stage presence\, make her irresistible on stage.Follow Gina on Facebook and Instagram @MamaBeCray \n\n\n\n \n\n\n\n\n\n\n\n\n\nJeff Bordes\n\n\n\nJeff Bordes needs no introduction to those in the music industry. A 1997 graduate of Berklee College of Music in Boston\, he has been playing since his early years and since\, hasn’t stopped changing the face of jazz. He has during his career played live with and recorded on the projects of such esteemed artists as Jon Faddis\, Branford Marsalis\, Alex Acuna\, Giovanni Hidalgo\, Horacio “El Negro” Hernandez\, Richie Cole\, David Garibaldi\, Tom Petty\, Steve Earle\, Stevie Nicks\, Sheryl Crow\, Karl Denson\, Sugarhill Gang\, Dana Carvey and most recently\, John Mellencamp. He has toured in Japan and across the United States with various groups such as the Bill Berry Big Band\, Dizzy Gillespie\, and others. Bordes has recorded numerous CDs for a variety of groups including San Francisco’s Force Seven\, Adam Ben\, Heather Combs\, and Boston’s ‘The Hi-Hats.’ \n\n\n\n\n\n\n\n\n\nRudy Parris\n\n\n\nNative American country singer/songwriter hails from Central California’s San Joaquin Valley.  Being influenced by the Bakersfield sound\, Parris was honored to have enjoyed a longstanding residency playing alongside country legend Buck Owens at his Crystal Palace in Bakersfield\, CA.   \n\n\n\nHe is probably most well known for his appearances on Season 3 of NBC’s The Voice\, where he was featured to over 190 million viewers.  He was a member of Team Blake (Shelton) and was featured in that season’s live finale with a guitar and vocal performance on “Rock and Roll All Night\,” a favorite by his rock heroes\, KISS.  
URL:https://showmentum.com/show/comedy-music-at-concannon-vineyard-october-18-2019/
LOCATION:Concannon Vineyard\, 4950 Tesla Road\, Livermore\, California\, 94550\, United States
CATEGORIES:Concannon
ATTACH;FMTTYPE=image/jpeg:https://showmentum.com/wp-content/uploads/2019/10/comedyandmusic-1.jpg
ORGANIZER;CN="Showmentum%2C Inc.":MAILTO:info@showmentum.com
END:VEVENT
END:VCALENDAR