BEGIN:VCALENDAR
VERSION:2.0
PRODID:-//Showmentum, Inc. - ECPv6.15.20//NONSGML v1.0//EN
CALSCALE:GREGORIAN
METHOD:PUBLISH
X-ORIGINAL-URL:https://showmentum.com
X-WR-CALDESC:Events for Showmentum, Inc.
REFRESH-INTERVAL;VALUE=DURATION:PT1H
X-Robots-Tag:noindex
X-PUBLISHED-TTL:PT1H
BEGIN:VTIMEZONE
TZID:America/Los_Angeles
BEGIN:DAYLIGHT
TZOFFSETFROM:-0800
TZOFFSETTO:-0700
TZNAME:PDT
DTSTART:20250309T100000
END:DAYLIGHT
BEGIN:STANDARD
TZOFFSETFROM:-0700
TZOFFSETTO:-0800
TZNAME:PST
DTSTART:20251102T090000
END:STANDARD
BEGIN:DAYLIGHT
TZOFFSETFROM:-0800
TZOFFSETTO:-0700
TZNAME:PDT
DTSTART:20260308T100000
END:DAYLIGHT
BEGIN:STANDARD
TZOFFSETFROM:-0700
TZOFFSETTO:-0800
TZNAME:PST
DTSTART:20261101T090000
END:STANDARD
BEGIN:DAYLIGHT
TZOFFSETFROM:-0800
TZOFFSETTO:-0700
TZNAME:PDT
DTSTART:20270314T100000
END:DAYLIGHT
BEGIN:STANDARD
TZOFFSETFROM:-0700
TZOFFSETTO:-0800
TZNAME:PST
DTSTART:20271107T090000
END:STANDARD
END:VTIMEZONE
BEGIN:VEVENT
DTSTART;TZID=America/Los_Angeles:20260212T200000
DTEND;TZID=America/Los_Angeles:20260212T213000
DTSTAMP:20260421T121103
CREATED:20260113T230909Z
LAST-MODIFIED:20260206T001806Z
UID:10000322-1770926400-1770931800@showmentum.com
SUMMARY:Crack Me Up at 1st Street Wine Company Thursday February 12 2026
DESCRIPTION:Reserved Seating Included with Each Ticket\n\n\n\nYour table is automatically reserved under the last name of the ticket purchaser\, so your seats are ready when you arrive. If you have a seating preference such as front\, middle or back or want to sit with another party text (925) 290-7230 by 4:00 pm day of show to let us know. \n\n\n\n\n\nCrack Me Up at 1st Street Wine Company\n\n\n\nCan you keep a straight face? Let’s find out!\n\n\n\nThree comics\, one audience member. Each comic gets 60 seconds to make you laugh. If you can face all three without cracking up\, you win a prize! \n\n\n\nPlus\, each comedian performs their own stand-up set before the challenge begins. It’s part comedy show\, part game show\, all laughs! \n\n\n\n\n\n\n\n\n\nIntroducing your comedians for the Evening\n\n\n\n\n\n\n\n\n\n\n\nNoah Guerrero\n\n\n\nNoah is a sharp\, fast-rising Bay Area comic and the 2025 Roast Battle Bay Area Rookie of the Year\, known for quick-fire punchlines and a fearless\, playful roast style. He’s been seen on stages across Northern California\, including Rooster T. Feathers\, Deaf Puppy Comedy Club\, Cobb’s Comedy Club\, and Punch Line\, where he blends personal stories with razor-edged crowd work. Whether he’s trading shots in a roast battle or hosting a packed showcase\, Noah brings high energy\, big laughs\, and just enough chaos to keep audiences on their toes. \n\n\n\n\n\n\n\n\n\n\n\n\n\n\n\nBill Schott\n\n\n\nBill is a SF Bay Area native who has performed in venues all over California\, some big\, some very small and some unique (a laundromat and a junkyard to name a few). He has also performed in clubs in Paris\, Madrid and Tokyo. He is the youngest of 7 siblings and his comedy is based mostly on real events\, except for the parts that are totally made. \n\n\n\n\n\n\n\n\n\n\n\n\n\n\n\nNic B\n\n\n\nA husband\, father\, and proud Livermore resident\, Nic’s style blends brutally honest self reflection with the absurd thoughts that keep him awake at night. He has been a favorite on indie shows\, bars & wineries\, club showcases\, and is a rising star on the roast battle circuit. Nic is sure to leave you with memorable stories & punchlines and plenty of new things to research after the show. \n\n\n\n\n\n\n\n\n\n\n\n\n\n\nBrian Maggi\,Your Host\n\n\n\nBrian is the creator\, and host of Adulted\, and a Bay Area comedian and writer. He left the high stress world of tech for the low wage life of standup comedy performing under the stage name Skip Everett. His biggest claim to fame is inventing the Spam filter so he’d have an excuse for not reading his parents’ emails. \n\nHe performs regularly around San Francisco including Cobbs\, The Punchline\, and Rooster T. Feathers. He has written for Chicago’s Second City\, and co-created the underground humor magazine “In Formation.” He is a published author\, and keynote speaker on innovation and creativity.
URL:https://showmentum.com/show/crack-me-up-at-1st-street-wine-company-february-12-2026/
LOCATION:1st Street Wine Company\, 2211 1st Street\, Livermore\, CA\, 94550\, United States
CATEGORIES:1st Street Wine Company
ATTACH;FMTTYPE=image/jpeg:https://showmentum.com/wp-content/uploads/2026/01/Crack-Me-Up-Series-Header.jpg
END:VEVENT
END:VCALENDAR