BEGIN:VCALENDAR
VERSION:2.0
PRODID:-//Showmentum, Inc. - ECPv6.15.20//NONSGML v1.0//EN
CALSCALE:GREGORIAN
METHOD:PUBLISH
X-ORIGINAL-URL:https://showmentum.com
X-WR-CALDESC:Events for Showmentum, Inc.
REFRESH-INTERVAL;VALUE=DURATION:PT1H
X-Robots-Tag:noindex
X-PUBLISHED-TTL:PT1H
BEGIN:VTIMEZONE
TZID:America/Los_Angeles
BEGIN:DAYLIGHT
TZOFFSETFROM:-0800
TZOFFSETTO:-0700
TZNAME:PDT
DTSTART:20250309T100000
END:DAYLIGHT
BEGIN:STANDARD
TZOFFSETFROM:-0700
TZOFFSETTO:-0800
TZNAME:PST
DTSTART:20251102T090000
END:STANDARD
BEGIN:DAYLIGHT
TZOFFSETFROM:-0800
TZOFFSETTO:-0700
TZNAME:PDT
DTSTART:20260308T100000
END:DAYLIGHT
BEGIN:STANDARD
TZOFFSETFROM:-0700
TZOFFSETTO:-0800
TZNAME:PST
DTSTART:20261101T090000
END:STANDARD
BEGIN:DAYLIGHT
TZOFFSETFROM:-0800
TZOFFSETTO:-0700
TZNAME:PDT
DTSTART:20270314T100000
END:DAYLIGHT
BEGIN:STANDARD
TZOFFSETFROM:-0700
TZOFFSETTO:-0800
TZNAME:PST
DTSTART:20271107T090000
END:STANDARD
END:VTIMEZONE
BEGIN:VEVENT
DTSTART;TZID=America/Los_Angeles:20260108T200000
DTEND;TZID=America/Los_Angeles:20260108T213000
DTSTAMP:20260421T120856
CREATED:20251230T034817Z
LAST-MODIFIED:20260106T064830Z
UID:10000320-1767902400-1767907800@showmentum.com
SUMMARY:Crack Me Up at 1st Street Wine Company
DESCRIPTION:Reserved Seating Included with Each Ticket\n\n\n\nYour table is automatically reserved under the last name of the ticket purchaser\, so your seats are ready when you arrive. If you have a seating preference such as front\, middle or back or want to sit with another party text (925) 290-7230 by 4:00 pm day of show to let us know. \n\n\n\n\n\nCrack Me Up at 1st Street Wine Company\n\n\n\nCan you keep a straight face? Let’s find out!\n\n\n\nThree comics. One audience member. Each comic gets 60 seconds to make you laugh. If you can face all three without cracking up\, you win a prize! \n\n\n\nPlus\, each comedian performs their own stand-up set before the challenge begins. It’s part comedy show\, part game show\, all laughs! \n\n\n\n\n\n\n\n\n\nIntroducing your comedians for the Evening\n\n\n\n\n\n\n\n\n\n\n\nNoah Guerrero \n\n\n\nNoah is a sharp\, fast-rising Bay Area comic and the 2025 Roast Battle Bay Area Rookie of the Year\, known for quick-fire punchlines and a fearless\, playful roast style. He’s been seen on stages across Northern California\, including Rooster T. Feathers\, Deaf Puppy Comedy Club\, Cobb’s Comedy Club\, and Punch Line\, where he blends personal stories with razor-edged crowd work. Whether he’s trading shots in a roast battle or hosting a packed showcase\, Noah brings high energy\, big laughs\, and just enough chaos to keep audiences on their toes. \n\n\n\n\n\n\n\n\n\n\n\n\n\n\n\nJacob Parnell \n\n\n\nJacob Parnell is an up and coming comic from Livermore\, CA. He won Best Comic at Tommy T’s open mic competition\, was featured on “Comedians Got Talent” at the Retro Junkie in Walnut Creek\, and performed at Comedy Oakland and the award-winning Alameda Comedy Club. Jacob brings an upbeat vibe to the stage with his clean\, observational humor. Fun fact: He’s actually a church pastor. So he’s already used to people tuning him out! \n\n\n\n\n\n\n\n\n\n\n\n\n\n\nNic B.\n\n\n\nA husband\, father\, and proud Livermore resident\, Nic’s style blends brutally honest self reflection with the absurd thoughts that keep him awake at night. He has been a favorite on indie shows\, bars & wineries\, club showcases\, and is a rising star on the roast battle circuit. Nic is sure to leave you with memorable stories & punchlines and plenty of new things to research after the show.
URL:https://showmentum.com/show/crack-me-up-at-1st-street-wine-company/
LOCATION:1st Street Wine Company\, 2211 1st Street\, Livermore\, CA\, 94550\, United States
CATEGORIES:1st Street Wine Company
ATTACH;FMTTYPE=image/jpeg:https://showmentum.com/wp-content/uploads/2025/12/Featured-Crack-Me-Up-January-8-2026.jpg
END:VEVENT
END:VCALENDAR