BEGIN:VCALENDAR
VERSION:2.0
PRODID:-//Showmentum, Inc. - ECPv6.15.20//NONSGML v1.0//EN
CALSCALE:GREGORIAN
METHOD:PUBLISH
X-ORIGINAL-URL:https://showmentum.com
X-WR-CALDESC:Events for Showmentum, Inc.
REFRESH-INTERVAL;VALUE=DURATION:PT1H
X-Robots-Tag:noindex
X-PUBLISHED-TTL:PT1H
BEGIN:VTIMEZONE
TZID:America/Los_Angeles
BEGIN:DAYLIGHT
TZOFFSETFROM:-0800
TZOFFSETTO:-0700
TZNAME:PDT
DTSTART:20250309T100000
END:DAYLIGHT
BEGIN:STANDARD
TZOFFSETFROM:-0700
TZOFFSETTO:-0800
TZNAME:PST
DTSTART:20251102T090000
END:STANDARD
BEGIN:DAYLIGHT
TZOFFSETFROM:-0800
TZOFFSETTO:-0700
TZNAME:PDT
DTSTART:20260308T100000
END:DAYLIGHT
BEGIN:STANDARD
TZOFFSETFROM:-0700
TZOFFSETTO:-0800
TZNAME:PST
DTSTART:20261101T090000
END:STANDARD
BEGIN:DAYLIGHT
TZOFFSETFROM:-0800
TZOFFSETTO:-0700
TZNAME:PDT
DTSTART:20270314T100000
END:DAYLIGHT
BEGIN:STANDARD
TZOFFSETFROM:-0700
TZOFFSETTO:-0800
TZNAME:PST
DTSTART:20271107T090000
END:STANDARD
END:VTIMEZONE
BEGIN:VEVENT
DTSTART;TZID=America/Los_Angeles:20260606T170000
DTEND;TZID=America/Los_Angeles:20260606T213000
DTSTAMP:20260423T045512
CREATED:20260407T220635Z
LAST-MODIFIED:20260414T032740Z
UID:10000330-1780765200-1780781400@showmentum.com
SUMMARY:Mitch Polzak and The Royal Deuces at 3 Steves Winery Saturday June 6 2026
DESCRIPTION:Reserved Seating Included with Each Ticket\n\n\n\nYour table is automatically reserved under the last name of the ticket purchaser\, so your seats are ready when you arrive. If you have a seating preference such as front\, middle or back or want to sit with another party text (925) 290-7230 by 4:00 pm day of show to let us know. \n\n\n\nThis an outdoor show on the patio and crush pad.  \n\n\n\n\n\nMitch Polzak and the Royal Deuces live at 3 steves Winery\n\n\n\n\n\nWith special guest Loren O \n\n\n\nThere’s something that happens when the right guy finds the right setting. The music stops being background and starts being inevitable. That’s what Mitch Polzak and the Royal Deuces deliver on a warm evening at Steve’s Winery\, perched in the heart of Livermore wine country with the legendary Altamont Hills rolling out beneath a wide California sky. Polzak fronts a group of players who know the difference between performing a song and inhabiting one. Expect everything\, including unexpected turns\, and a rhythm section that makes the ground feel like it’s in on the joke. \n\n\n\n3 Steves earns its reputation the old-fashioned way\, stunning views\, exceptional wine\, and a stage that knows what real music sounds like. As the sun drops behind those ancient hills and the valley lights up gold\, Mitch Polzak and the Royal Deuces will be hitting their stride. Showmentum is proud to bring this one to you\, because some nights are too good to miss and too good to forget. Grab a glass\, find your spot\, and let the Royal Deuces handle the rest. \n\n\n\n\n\n\n\n\n\n\n\n\n\n\nMitch Polzak\n\n\n\nThe big guy from out West and larger than life energy (he’s also 6’5’) performer\, guitarist\, singer\, banjoist\, songwriter\, composer\, entertainer\, musical historian and teacher Mitch Polzak wears his heart on his sleeve and his playing in his heart. \n\nPolzak performs rockabilly and 60’s country music with the religious fervor of Jerry Lee Lewis and Johnny Cash and delivers a Honky Tonk ballad with the sincerity of Merle Haggard and Waylon Jennings. Mitch will bring a room to a fevered pitch of joyous energy on the dance floor and then tell you a story in a song like two old friends sitting at a kitchen table at midnight. \n\nFluent in the musical languages of Country\, Rockabilly\, Honky Tonk\, The Bakersfield Sound\, Surf\, early Rock and Roll\, Bluegrass\, Cajun\, Blues\, and Truck Driving music gives Polzak the unique voice of the melting pot of the American musical experience. \n\nHis virtuosic guitar skills and influences range from the blazing flying fingers of Joe Maphis \, Marty Stuart\, Roy Clark\, and Don Rich to the timeless dreamlike state of “Sleepwalk” by Santo and Johnny along with the vast valleys of deep rumbling twang reminiscent of Duane Eddy. \n\nPolzak’s abundant joy in communicating with people through music leaps off the stage through every fiber of his being. His near-constant genuine smile can be seen clear across the room and invites you in without any pretense or judgements. Some call him “The Honky Tonk Mister Rogers”! \n\n\n\n\n\n\n\n\n\n\n\n\n\n\n\n\n\n\n\n\n\n\n\n\n\n\n\n\n\n\n\n\n\n\n\n\n\n\n\n\n\n\nLoren o\n\n\n\nLoren is a musician and performer\, known as “The Mayor of Music” in Livermore\, CA. He performs a variety of genres\, including Country-Western\, Blues\, Rock\, Pop\, and even Christmas tunes. \n\nMix together some Ol skool\, country\, honky tonk\, blues\, rock\, grunge\, some 50’s and 60’s\, add one Stetson\, add some pickin and a grinnin \, put it all in a blender and you get Loren “O”. \n\nHe frequently plays at the Livermore Farmers Market and other local events. He is also known for his energetic performances and his use of his guitar.
URL:https://showmentum.com/show/mitch-polzak-and-the-royal-deuces-at-3-steves-winery-saturday-june-6-2026/
LOCATION:3 Steves Winery\, 5700 Greenville Road\, Livermore\, 94550\, United States
CATEGORIES:3 Steves Winery
ATTACH;FMTTYPE=image/jpeg:https://showmentum.com/wp-content/uploads/2026/04/Mitch-Polzak-June-6-2026-3-Steves-Win_.jpg
END:VEVENT
END:VCALENDAR