BEGIN:VCALENDAR
VERSION:2.0
PRODID:-//Showmentum, Inc. - ECPv6.15.20//NONSGML v1.0//EN
CALSCALE:GREGORIAN
METHOD:PUBLISH
X-WR-CALNAME:Showmentum, Inc.
X-ORIGINAL-URL:https://showmentum.com
X-WR-CALDESC:Events for Showmentum, Inc.
REFRESH-INTERVAL;VALUE=DURATION:PT1H
X-Robots-Tag:noindex
X-PUBLISHED-TTL:PT1H
BEGIN:VTIMEZONE
TZID:America/Los_Angeles
BEGIN:DAYLIGHT
TZOFFSETFROM:-0800
TZOFFSETTO:-0700
TZNAME:PDT
DTSTART:20250309T100000
END:DAYLIGHT
BEGIN:STANDARD
TZOFFSETFROM:-0700
TZOFFSETTO:-0800
TZNAME:PST
DTSTART:20251102T090000
END:STANDARD
BEGIN:DAYLIGHT
TZOFFSETFROM:-0800
TZOFFSETTO:-0700
TZNAME:PDT
DTSTART:20260308T100000
END:DAYLIGHT
BEGIN:STANDARD
TZOFFSETFROM:-0700
TZOFFSETTO:-0800
TZNAME:PST
DTSTART:20261101T090000
END:STANDARD
BEGIN:DAYLIGHT
TZOFFSETFROM:-0800
TZOFFSETTO:-0700
TZNAME:PDT
DTSTART:20270314T100000
END:DAYLIGHT
BEGIN:STANDARD
TZOFFSETFROM:-0700
TZOFFSETTO:-0800
TZNAME:PST
DTSTART:20271107T090000
END:STANDARD
END:VTIMEZONE
BEGIN:VEVENT
DTSTART;TZID=America/Los_Angeles:20260418T190000
DTEND;TZID=America/Los_Angeles:20260418T210000
DTSTAMP:20260422T012952
CREATED:20251213T211310Z
LAST-MODIFIED:20260409T001541Z
UID:10000312-1776538800-1776546000@showmentum.com
SUMMARY:Funestra Comedy Night at Fenestra Winery April 18\, 2026
DESCRIPTION:Reserved Seating Included with Each Ticket\n\n\n\nYour table is automatically reserved under the last name of the ticket purchaser\, so your seats are ready when you arrive. If you have a seating preference such as front\, middle or back or want to sit with another party text (925) 290-7230 by 4:00 pm day of show to let us know. \n\n\n\n\n\nFunestra Comedy Night \n\n\n\nFunestra Comedy Night features live standup comedy in Livermore’s historic wine country\, pairing the best comics from the Bay Area and Beyond with Fenestra’s award‑winning wines in the cozy tasting room. Tickets include reserved seating\, wine by the glass or bottle\, plus food options from local food trucks. Perfect for date night\, friends\, and groups just minutes from downtown Livermore. \n\n\n\nDoors open at 6:00 pm and the show starts at 7:00 pm and runs about 2 hours\, with a short intermission\, so guests can arrive early\, get settled at their table\, and enjoy wine and food before throughout the whole show.  \n\n\n\nSeating is limited and tables are reserved for ticket holders\, and ensures everyone has a comfortable place to sit. Because of the limited capacity and popularity of these events\, advance tickets are strongly recommended\, and parties are encouraged. \n\n\n\n\n\n\nThe Evening’s Lineup of Comedians\n\n\n\n\n\n\n\n\n\n\n\nGina Stahl-Haven\n\n\n\nGina is a dynamic stand‑up comedian and storyteller based in the San Francisco Bay Area\, known for her sharp\, relatable material about motherhood\, relationships\, body image\, and the absurdities of modern life. A runner‑up in the 2019 San Francisco International Comedy Competition (the first woman in 36 years and the only woman besides Ellen DeGeneres to reach that spot)\, she quickly made a name for herself with her candid\, high‑energy style and fearless takes on rage\, equity\, and surviving Costco with three kids and multiple husbands. Her comedy blends personal storytelling with biting social observation\, delivered with an intoxicating stage presence that keeps audiences both laughing and thinking. \n\nGina gained national exposure as a standout comedian on Season 17 of NBC’s America’s Got Talent\, where she earned four “yes” votes from the judges and praise from Howie Mandel as “wonderful” and “memorable.” She’s performed at festivals across the country\, including the World Series of Comedy\, Boston Comedy Festival\, and SF Improv Festival\, and headlines clubs and storytelling shows nationwide. When she’s not on stage\, Gina is also an adjunct professor and educator\, bringing her passion for communication and connection to both the classroom and the comedy club. \n\n \n\n\n\n\n\n\n\n\n\n\n\n\n\nJon Lehre\n\n\n\nJon Lehre was born during the Summer of Love in San Francisco to hippy parents and his life has never been as cool as that ever again. A resident of Santa Rosa with his wife\, two grown kids and an ongoing mortgage\, Jon divides his time between stand-up comedy\, graphic design and story-telling instead of going to therapy. \n\nJon Lehre has performed stand-up comedy throughout California\, participated in the 2020 San Diego Comedy Competition\, and was featured on the story-telling radio program\, The Moth\, in 2021. He continues to meander through his mid-life crisis with the bemused tolerance of his wife\, two kids and easily startled dog. \n\n\n\n\n\n\n\n\n\n\n\n\n\n\nYour Host\, Brian Maggi\n\n\n\nBrian is the creator\, and host of Adulted\, and a Bay Area comedian and writer. He left the high stress world of tech for the low wage life of standup comedy performing under the stage name Skip Everett. His biggest claim to fame is inventing the Spam filter so he’d have an excuse for not reading his parents’ emails. \n\nHe performs regularly around San Francisco including Cobbs\, The Punchline\, and Rooster T. Feathers. He has written for Chicago’s Second City\, and co-created the underground humor magazine “In Formation.” He is a published author\, and keynote speaker on innovation and creativity. \n\n\n\n\n\n\n\n\n\n\n\n\n\n\n\n\nar Comedy in Livermore\, Comedy Night\, comedy shows bay area\, date night bay area
URL:https://showmentum.com/show/funestra-comedy-night-at-fenestra-winery-starring-gina-stahl-haven/
CATEGORIES:Fenestra Winery
ATTACH;FMTTYPE=image/jpeg:https://showmentum.com/wp-content/uploads/2025/12/Feature-Funestra-April-18-2026.jpg
END:VEVENT
BEGIN:VEVENT
DTSTART;TZID=America/Los_Angeles:20260418T190000
DTEND;TZID=America/Los_Angeles:20260418T210000
DTSTAMP:20260422T012952
CREATED:20260418T173318Z
LAST-MODIFIED:20260418T173323Z
UID:10000347-1776538800-1776546000@showmentum.com
SUMMARY:Funestra Comedy Night at Fenestra Winery June 20\, 2026 7:00 pm
DESCRIPTION:Reserved Seating Included with Each Ticket\n\n\n\nYour table is automatically reserved under the last name of the ticket purchaser\, so your seats are ready when you arrive. If you have a seating preference such as front\, middle or back or want to sit with another party text (925) 290-7230 by 4:00 pm day of show to let us know. \n\n\n\nThis show will be outside. \n\n\n\n\n\nFunestra Comedy Night \n\n\n\nFunestra Comedy Night features live standup comedy in Livermore’s historic wine country\, pairing the best comics from the Bay Area and Beyond with Fenestra’s award‑winning wines in the cozy tasting room. Tickets include reserved seating\, wine by the glass or bottle\, plus food options from local food trucks. Perfect for date night\, friends\, and groups just minutes from downtown Livermore. \n\n\n\nDoors open at 6:00 pm and the show starts at 7:00 pm and runs about 2 hours\, with a short intermission\, so guests can arrive early\, get settled at their table\, and enjoy wine and food before throughout the whole show.  \n\n\n\nSeating is limited and tables are reserved for ticket holders\, and ensures everyone has a comfortable place to sit. Because of the limited capacity and popularity of these events\, advance tickets are strongly recommended\, and parties are encouraged. \n\n\n\n\n\n\nThe Evening’s Lineup of Comedians\n\n\n\n\n\n\n\n\n\n\nPhil Johnson\n\n\nPhil Johnson has an action packed show filled with his two loves\, comedy and music.  It’s a show filled with sharp unexpected turns\, sneak attack jokes\, and hilarious songs that doesn’t shy away from controversial territory… race\, sex\, religion\, and doughnuts – so many doughnuts – all delivered from the viewpoint of a guy who happily grew up in the deeply multi-everything community of the San Francisco Bay Area. \nPhil has been seen and heard at the Sundance Film Festival\, Edinburgh Fringe Festival\, on Sirius/XM and Bob and Tom radio\, and on Amazon Prime. He’s also released multiple comedy specials and albums filled with his colorful\, tightly-written comedy. \n\n\n\n\n\n\n\n\n\n\n\n\n\nBill Schott\n\n\n\nBill is a SF Bay Area native who has performed in venues all over California\, some big\, some very small and some unique (a laundromat and a junkyard to name a few). He has also performed in clubs in Paris\, Madrid and Tokyo. He is the youngest of 7 siblings and his comedy is based mostly on real events\, except for the parts that are totally made. \n\n\n\n\n\n\n\n\n\n\n\n\n\n\n\nYour Host\, Brian Maggi\n\n\n\nBrian is the creator\, and host of Adulted\, and a Bay Area comedian and writer. He left the high stress world of tech for the low wage life of standup comedy performing under the stage name Skip Everett. His biggest claim to fame is inventing the Spam filter so he’d have an excuse for not reading his parents’ emails. \n\nHe performs regularly around San Francisco including Cobbs\, The Punchline\, and Rooster T. Feathers. He has written for Chicago’s Second City\, and co-created the underground humor magazine “In Formation.” He is a published author\, and keynote speaker on innovation and creativity. \n\n\n\n\n\n\n\n\n\n\n\n\n\n\n\n\nar Comedy in Livermore\, Comedy Night\, comedy shows bay area\, date night bay area
URL:https://showmentum.com/show/funestra-comedy-night-at-fenestra-winery-june-20-2026-700-pm/
CATEGORIES:Fenestra Winery
ATTACH;FMTTYPE=image/jpeg:https://showmentum.com/wp-content/uploads/2026/04/Featured-Image-June-20-2026-Funestra.jpg
END:VEVENT
END:VCALENDAR