BEGIN:VCALENDAR
VERSION:2.0
PRODID:-//Showmentum, Inc. - ECPv6.15.20//NONSGML v1.0//EN
CALSCALE:GREGORIAN
METHOD:PUBLISH
X-WR-CALNAME:Showmentum, Inc.
X-ORIGINAL-URL:https://showmentum.com
X-WR-CALDESC:Events for Showmentum, Inc.
REFRESH-INTERVAL;VALUE=DURATION:PT1H
X-Robots-Tag:noindex
X-PUBLISHED-TTL:PT1H
BEGIN:VTIMEZONE
TZID:America/Los_Angeles
BEGIN:DAYLIGHT
TZOFFSETFROM:-0800
TZOFFSETTO:-0700
TZNAME:PDT
DTSTART:20250309T100000
END:DAYLIGHT
BEGIN:STANDARD
TZOFFSETFROM:-0700
TZOFFSETTO:-0800
TZNAME:PST
DTSTART:20251102T090000
END:STANDARD
BEGIN:DAYLIGHT
TZOFFSETFROM:-0800
TZOFFSETTO:-0700
TZNAME:PDT
DTSTART:20260308T100000
END:DAYLIGHT
BEGIN:STANDARD
TZOFFSETFROM:-0700
TZOFFSETTO:-0800
TZNAME:PST
DTSTART:20261101T090000
END:STANDARD
BEGIN:DAYLIGHT
TZOFFSETFROM:-0800
TZOFFSETTO:-0700
TZNAME:PDT
DTSTART:20270314T100000
END:DAYLIGHT
BEGIN:STANDARD
TZOFFSETFROM:-0700
TZOFFSETTO:-0800
TZNAME:PST
DTSTART:20271107T090000
END:STANDARD
END:VTIMEZONE
BEGIN:VEVENT
DTSTART;TZID=America/Los_Angeles:20260327T193000
DTEND;TZID=America/Los_Angeles:20260327T220000
DTSTAMP:20260419T072810
CREATED:20260209T222612Z
LAST-MODIFIED:20260214T225133Z
UID:10000325-1774639800-1774648800@showmentum.com
SUMMARY:The Late Pour Comedy Series at Concannon Vineyard March 27\, 2026
DESCRIPTION:Reserved Seating Included with Each Ticket\n\n\n\nYour table is automatically reserved under the last name of the ticket purchaser\, so your seats are ready when you arrive. If you have a seating preference such as front\, middle or back or want to sit with another party text (925) 290-7230 by 4:00 pm day of show to let us know. \n\n\n\n\n\nThe Late Pour Comedy Series at Concannon Vineyard\n\n\n\nDoors open at 6pm to enjoy wine and lounge before\, and the show starts at 7:30 pm.\n\n\n\nRaise your glass and get ready for a night of laughter at The Late Pour\, a comedy show at Concannon Vineyard featuring top comedians from the Bay Area and beyond. This show blends hilarious stand-up with the laid-back\, sophisticated vibe you can only find at one of California’s premier wineries. \n\n\n\nEnjoy the evening with award-winning wine\, local craft beer\, and delicious food options\, all available for purchase as you settle in for unforgettable performances from some of the funniest comics around. Whether you’re out for date night\, a group hang\, or just need a good laugh\, The Late Pour pours equal parts comedy\, flavor\, and vineyard charm into one perfect night. \n\n\n\nThe Estate Room is our newest tasting venue and an exclusive lounge for members and their guests. With lounge-style seating and a relaxed\, low-key atmosphere\, it offers a quieter\, more personal way to experience Concannon. \n\n\n\n\n\n\n\nStarring…\n\n\n\n\n\n\n\n\n\n\n\nPriya Puram\n\n\n\nPriya is a sharp\, high-energy comedian based in San Francisco who left engineering for stand up – a bold move driven by passion (and a desire to make less money). As a first-generation Indian American\, she brings biting takes on tech\, culture\, and identity to the stage\, earning laughs at top venues like Cobb’s\, The Punchline\, Cheaper Than Therapy\, Don’t Tell Comedy\, and SF Sketchfest. \n\n\n\n\n\n\n\n\n\n\n\n\n\n\nBill Schott\n\n\n\nBill is a SF Bay Area native who has performed in venues all over California\, some big\, some very small and some unique (a laundromat and a junkyard to name a few). He has also performed in clubs in Paris\, Madrid and Tokyo. He is the youngest of 7 siblings and his comedy is based mostly on real events\, except for the parts that are totally made. \n\n\n\n\n\n\n\n\n\n\n\n\n\n\n\nHosted By brian Maggi\n\n\n\nBrian is the creator\, and host of Adulted\, and a Bay Area comedian and writer. He left the high stress world of tech for the low wage life of standup comedy performing under the stage name Skip Everett. His biggest claim to fame is inventing the Spam filter so he’d have an excuse for not reading his parents’ emails. \n\nHe performs regularly around San Francisco including Cobbs\, The Punchline\, and Rooster T. Feathers. He has written for Chicago’s Second City\, and co-created the underground humor magazine “In Formation.” He is a published author\, and keynote speaker on innovation and creativity.
URL:https://showmentum.com/show/the-late-pour-comedy-series-at-concannon-vineyard-march-27-2026-starring-priya-puram/
LOCATION:Concannon Vineyard\, 4950 Tesla Road\, Livermore\, California\, 94550\, United States
CATEGORIES:Concannon
ATTACH;FMTTYPE=image/jpeg:https://showmentum.com/wp-content/uploads/2026/02/The-Late-Pour-March-27-2026-Featured-1.jpg
END:VEVENT
END:VCALENDAR